BEGIN:VCALENDAR
VERSION:2.0
PRODID:-//José Antonio Moreno - ECPv6.8.1//NONSGML v1.0//EN
CALSCALE:GREGORIAN
METHOD:PUBLISH
X-WR-CALNAME:José Antonio Moreno
X-ORIGINAL-URL:https://www.joseantoniomoreno.com
X-WR-CALDESC:Eventos para José Antonio Moreno
REFRESH-INTERVAL;VALUE=DURATION:PT1H
X-Robots-Tag:noindex
X-PUBLISHED-TTL:PT1H
BEGIN:VTIMEZONE
TZID:UTC
BEGIN:STANDARD
TZOFFSETFROM:+0000
TZOFFSETTO:+0000
TZNAME:UTC
DTSTART:20260101T000000
END:STANDARD
END:VTIMEZONE
BEGIN:VEVENT
DTSTART;TZID=UTC:20260430T200000
DTEND;TZID=UTC:20260430T220000
DTSTAMP:20260421T083917
CREATED:20260414T161441Z
LAST-MODIFIED:20260414T161441Z
UID:9248-1777579200-1777586400@www.joseantoniomoreno.com
SUMMARY:Real Orquesta Sinfónica de Sevilla
DESCRIPTION:Sinfónico 12: Ma mére l´Oye \nPrograma: \nGABRIEL FAURÉ: Pavana para orquesta\, en Fa sostenido menor\, Op.50\nMAURICE RAVEL: Pavana de la Bella Durmiente para piano a cuatro manos\, Op. 50\nMAURICE RAVEL: Ma mère l’ Oye\nCoreografía de las tres primeras piezas: Antonio Ruz *\nCÉSAR FRANCK: Variaciones sinfónicas para piano y orquesta\nMAURICE RAVEL: Bolero \nPiano: Xiaolu Zang \nDirectora: Johanna Malangré
URL:https://www.joseantoniomoreno.com/event/real-orquesta-sinfonica-de-sevilla-91/
LOCATION:Teatro Maestranza\, Paseo de Cristobal Colon\, nº22\, Sevilla\, Sevilla\, 41001\, España
END:VEVENT
END:VCALENDAR